BEGIN:VCALENDAR
VERSION:2.0
PRODID:-//CVJM Altensteig-Walddorf e. V. - ECPv6.15.17//NONSGML v1.0//EN
CALSCALE:GREGORIAN
METHOD:PUBLISH
X-WR-CALNAME:CVJM Altensteig-Walddorf e. V.
X-ORIGINAL-URL:https://cvjm-altensteig-walddorf.de
X-WR-CALDESC:Veranstaltungen für CVJM Altensteig-Walddorf e. V.
REFRESH-INTERVAL;VALUE=DURATION:PT1H
X-Robots-Tag:noindex
X-PUBLISHED-TTL:PT1H
BEGIN:VTIMEZONE
TZID:Europe/Berlin
BEGIN:DAYLIGHT
TZOFFSETFROM:+0100
TZOFFSETTO:+0200
TZNAME:CEST
DTSTART:20230326T010000
END:DAYLIGHT
BEGIN:STANDARD
TZOFFSETFROM:+0200
TZOFFSETTO:+0100
TZNAME:CET
DTSTART:20231029T010000
END:STANDARD
BEGIN:DAYLIGHT
TZOFFSETFROM:+0100
TZOFFSETTO:+0200
TZNAME:CEST
DTSTART:20240331T010000
END:DAYLIGHT
BEGIN:STANDARD
TZOFFSETFROM:+0200
TZOFFSETTO:+0100
TZNAME:CET
DTSTART:20241027T010000
END:STANDARD
BEGIN:DAYLIGHT
TZOFFSETFROM:+0100
TZOFFSETTO:+0200
TZNAME:CEST
DTSTART:20250330T010000
END:DAYLIGHT
BEGIN:STANDARD
TZOFFSETFROM:+0200
TZOFFSETTO:+0100
TZNAME:CET
DTSTART:20251026T010000
END:STANDARD
BEGIN:DAYLIGHT
TZOFFSETFROM:+0100
TZOFFSETTO:+0200
TZNAME:CEST
DTSTART:20260329T010000
END:DAYLIGHT
BEGIN:STANDARD
TZOFFSETFROM:+0200
TZOFFSETTO:+0100
TZNAME:CET
DTSTART:20261025T010000
END:STANDARD
BEGIN:DAYLIGHT
TZOFFSETFROM:+0100
TZOFFSETTO:+0200
TZNAME:CEST
DTSTART:20270328T010000
END:DAYLIGHT
BEGIN:STANDARD
TZOFFSETFROM:+0200
TZOFFSETTO:+0100
TZNAME:CET
DTSTART:20271031T010000
END:STANDARD
END:VTIMEZONE
BEGIN:VEVENT
DTSTART;TZID=Europe/Berlin:20260321T190000
DTEND;TZID=Europe/Berlin:20260321T220000
DTSTAMP:20260424T152051
CREATED:20260308T165836Z
LAST-MODIFIED:20260308T165836Z
UID:891-1774119600-1774130400@cvjm-altensteig-walddorf.de
SUMMARY:Mitgliederversammlung
DESCRIPTION:
URL:https://cvjm-altensteig-walddorf.de/event/mitgliederversammlung/
END:VEVENT
BEGIN:VEVENT
DTSTART;TZID=Europe/Berlin:20250111T090000
DTEND;TZID=Europe/Berlin:20250111T170000
DTSTAMP:20260424T152051
CREATED:20240830T221554Z
LAST-MODIFIED:20240830T221554Z
UID:838-1736586000-1736614800@cvjm-altensteig-walddorf.de
SUMMARY:Christbaumsammlung
DESCRIPTION:
URL:https://cvjm-altensteig-walddorf.de/event/christbaumsammlung/
END:VEVENT
BEGIN:VEVENT
DTSTART;TZID=Europe/Berlin:20241026T150000
DTEND;TZID=Europe/Berlin:20241026T190000
DTSTAMP:20260424T152051
CREATED:20240917T150727Z
LAST-MODIFIED:20240917T150727Z
UID:852-1729954800-1729969200@cvjm-altensteig-walddorf.de
SUMMARY:Amore Experience - Pre-Event
DESCRIPTION:
URL:https://cvjm-altensteig-walddorf.de/event/amore-experience-pre-event/
END:VEVENT
BEGIN:VEVENT
DTSTART;TZID=Europe/Berlin:20241013T080000
DTEND;TZID=Europe/Berlin:20241013T170000
DTSTAMP:20260424T152051
CREATED:20240830T222450Z
LAST-MODIFIED:20240830T222450Z
UID:841-1728806400-1728838800@cvjm-altensteig-walddorf.de
SUMMARY:Apfelfest Walddorf
DESCRIPTION:
URL:https://cvjm-altensteig-walddorf.de/event/apfelfest-walddorf/
END:VEVENT
END:VCALENDAR